{"text_format":"3","workbook":"xlsx","n_sheets":7,"sheets":["Document de vision","BACKLOG","Tableau de bord","CARDS","TEMPLATE","Sprint Vierge","Sprint 1"],"not_rendered":{"charts":3,"images":2,"macros":1,"defined_names":2,"comments":3},"read":"whole","date_system":"1900"}

{"sheet":"Document de vision","index":0,"n_rows":36,"n_cols":12,"rows_kept":36,"merged":[[0,0,0,1],[15,6,15,7],[16,6,16,7],[17,6,18,7],[28,2,28,3],[29,2,29,3],[30,2,30,3],[31,2,31,3],[32,2,32,3],[32,6,32,7],[33,2,33,3],[33,6,33,7],[34,2,34,3],[34,6,34,7],[35,2,35,3],[35,6,35,7],[36,2,36,3],[36,6,36,7],[37,2,37,3],[37,6,37,7],[38,6,38,7],[39,6,39,7],[40,6,40,7],[41,6,41,7],[42,6,42,7],[43,6,43,7]]}
["Document de vision",{"$nulls":4},"Pour qui ? portraits robots des utilisateurs"]
[]
[null,"Le document de vision décrit une vision simple du produit. Il content également l'état d'avancement générale du produit.",{"$nulls":5},"Nom","Laurent"]
[{"$nulls":7},"Photo"]
[null,"Qui (equipe)?",null,"Pour qui?",{"$nulls":3},"Age","35 ans"]
[{"$nulls":7},"Profession","Formateur"]
[{"$nulls":7},"Situation familiale","Marié"]
[{"$nulls":7},"Niveau en informatique","Usage courant au travail mais limité au logiciel bureautique"]
[{"$nulls":7},"Caractéristiques","* N'aime pas perdre son temps"]
[{"$nulls":8},"* Souhaite former correctement"]
[]
[{"$nulls":7},"Objectifs","* Simplfier la formation a distance"]
[{"$nulls":8},"* Avoir un suivi des apprenants"]
[null,null,"Nom du produit"]
[null,null,"Problématique ?"]
[{"$nulls":6},"Scénarios",null,"* cherche sur internet des cours"]
[null,"But (Quoi)?",null,"Comment?",null,null,"Quoi : que doit faire le user",null,"* se connecter depuis une tablette"]
[{"$nulls":6},"Comment : comportement et cheminement"]
[]
[]
[]
[]
[{"$nulls":5},"Roadmap"]
[]
[{"$nulls":8},"Version 1","Version 2","Version 3","Version 4"]
[{"$nulls":7},"Nom, date…"]
["Langage du domaine / du métier",{"$nulls":6},"Divers"]
[{"$nulls":7},"Objectifs"]
[null,"Nom","Définission"]
[]
[{"$nulls":5},"Obstacles"]
[]
[{"$nulls":6},"Nom",null,"Obstacle","Actions","Tendance","Statut"]
[{"$nulls":10},"ì"]
[{"$nulls":10},"î"]
[{"$nulls":10},"è"]

{"sheet":"BACKLOG","index":1,"n_rows":142,"n_cols":8,"rows_kept":142,"merged":[[0,0,0,2]]}
["BACKLOG"]
[]
[null,"Un \"backlog\" est une liste de fonctionnalités ou de tâches, jugées nécessaires et suffisantes pour la satisfaisante du client."]
[]
[]
["ID","Importance","Nom / Titre","Histoire","Comment tester ?","Estimatation","Sprint","Statu"]
[1,30,"Afficher les anomalies","En tant que consultant  Je veux accéder aux dernieres anomalies Afin d'alerter mes clients ","Soit un consultant lorsqu'il accede à la page \"suivit\" du client midas, alors il s'affiche une liste d'anoamlies",5]
[2,3,"Valider  le doc","En tant que client Je veux valider les données Afin de mettre a jour le système","Soit un client lorsqu'il a fini de saisir les données manquantes alors il coche la propriété \"valider\" du document en vigueur",3]
[3,5,"besoin 1","En tant que formateur Je veux …. Afin de  gerer les note ","Soit ...  lorsqu'il  ... alors ….",8]
[4,7,"besoin 2","En tant que …. Je veux …. Afin de  … ","Soit ...  lorsqu'il  ... alors ….",20]
[5,9,"besoin 3","En tant que …. Je veux …. Afin de  … ","Soit ...  lorsqu'il  ... alors ….",15]
[6,11,"besoin 4","En tant que …. Je veux …. Afin de  … ","Soit ...  lorsqu'il  ... alors ….",1]
[7,10,"besoin 5","En tant que …. Je veux …. Afin de  … ","Soit ...  lorsqu'il  ... alors ….",20]
[8,3,"besoin 6","En tant que …. Je veux …. Afin de  … ","Soit ...  lorsqu'il  ... alors ….",10]
[9,17,"besoin 7","En tant que …. Je veux …. Afin de  … ","Soit ...  lorsqu'il  ... alors ….",20]
[10,5,"besoin 8","En tant que …. Je veux …. Afin de  … ","Soit ...  lorsqu'il  ... alors ….",2]
[11,21,"besoin 9","En tant que …. Je veux …. Afin de  … ","Soit ...  lorsqu'il  ... alors ….",4]
[12,23,"besoin 10","En tant que …. Je veux …. Afin de  … ","Soit ...  lorsqu'il  ... alors ….",53]
[13,25,"besoin 11","En tant que …. Je veux …. Afin de  … ","Soit ...  lorsqu'il  ... alors ….",3]
[14,27,"besoin 12","En tant que …. Je veux …. Afin de  … ","Soit ...  lorsqu'il  ... alors ….",5]
[15,null,null,"En tant que …. Je veux …. Afin de  … "]
[16]
[17]
[18]
[19]
[20]
[21]
[22]
[23]
[24]
[25]
[26]
[27]
[28]
[29]
[30]
[31]
[32]
[33]
[34]
[35]
[36]
[37]
[38]
[39]
[40]
[41]
[42]
[43]
[44]
[45]
[46]
[47]
[48]
[49]
[50]
[51]
[52]
[53]
[54]
[55]
[56]
[57]
[58]
[59]
[60]
[61]
[62]
[63]
[64]
[65]
[66]
[67]
[68]
[69]
[70]
[71]
[72]
[73]
[74]
[75]
[76]
[77]
[78]
[79]
[80]
[81]
[82]
[83]
[84]
[85]
[86]
[87]
[88]
[89]
[90]
[91]
[92]
[93]
[94]
[95]
[96]
[97]
[98]
[99]
[100]
[101]
[102]
[103]
[104]
[105]
[106]
[107]
[108]
[109]
[110]
[111]
[112]
[113]
[114]
[115]
[116]
[117]
[118]
[119]
[120]
[121]
[122]
[123]
[124]
[125]
[126]
[127]
[128]
[129]
[130]
[131]
[132]
[133]
[134]
[135]
[136]

{"sheet":"Tableau de bord","index":2,"n_rows":7,"n_cols":8,"rows_kept":7,"merged":[[0,0,0,4],[5,0,5,1]]}
["Calcul des unités restantes des mêlée "]
[]
[]
[]
[null,null,"Sprint 1","Sprint 2","Sprint 3","Sprint 4","Sprint 5","Sprint 6"]
["Charge des sprints",null,{"$f":"'Sprint 1'!I18","v":{"v":56,"d":"56.00"}}]
[null,"Restant fin",{"$f":"'Sprint 1'!AA18","v":0},0,0,0,0,0]

{"sheet":"CARDS","index":3,"n_rows":326,"n_cols":4,"rows_kept":326}
["Backlog Item #1"]
[{"$nulls":3},"Importance"]
[null,"Afficher les anomalies",null,30]
[null,"Histoire",null,"Estimation"]
[null,"Afin d'alerter mes clients En tant que consultant  Je veux accéder aux dernieres anomalies",null,5]
[]
[null,"Comment tester ?"]
[null,"Soit un consultant lorsqu'il accede à la page \"suivit\" du client midas, alors il s'affiche une liste d'anoamlies"]
[]
[]
[]
["Backlog Item #14"]
[{"$nulls":3},"Importance"]
[null,"besoin 12",null,27]
[null,"Histoire",null,"Estimation"]
[null,"Afin de  … En tant que …. Je veux ….",null,5]
[]
[null,"Comment tester ?"]
[null,"Soit ...  lorsqu'il  ... alors …."]
[]
[]
[]
["Backlog Item #13"]
[{"$nulls":3},"Importance"]
[null,"besoin 11",null,25]
[null,"Histoire",null,"Estimation"]
[null,"Afin de  … En tant que …. Je veux ….",null,3]
[]
[null,"Comment tester ?"]
[null,"Soit ...  lorsqu'il  ... alors …."]
[]
[]
[]
["Backlog Item #12"]
[{"$nulls":3},"Importance"]
[null,"besoin 10",null,23]
[null,"Histoire",null,"Estimation"]
[null,"Afin de  … En tant que …. Je veux ….",null,53]
[]
[null,"Comment tester ?"]
[null,"Soit ...  lorsqu'il  ... alors …."]
[]
[]
[]
["Backlog Item #11"]
[{"$nulls":3},"Importance"]
[null,"besoin 9",null,21]
[null,"Histoire",null,"Estimation"]
[null,"Afin de  … En tant que …. Je veux ….",null,4]
[]
[null,"Comment tester ?"]
[null,"Soit ...  lorsqu'il  ... alors …."]
[]
[]
[]
["Backlog Item #9"]
[{"$nulls":3},"Importance"]
[null,"besoin 7",null,17]
[null,"Histoire",null,"Estimation"]
[null,"Afin de  … En tant que …. Je veux ….",null,20]
[]
[null,"Comment tester ?"]
[null,"Soit ...  lorsqu'il  ... alors …."]
[]
[]
[]
["Backlog Item #6"]
[{"$nulls":3},"Importance"]
[null,"besoin 4",null,11]
[null,"Histoire",null,"Estimation"]
[null,"Afin de  … En tant que …. Je veux ….",null,1]
[]
[null,"Comment tester ?"]
[null,"Soit ...  lorsqu'il  ... alors …."]
[]
[]
[]
["Backlog Item #7"]
[{"$nulls":3},"Importance"]
[null,"besoin 5",null,10]
[null,"Histoire",null,"Estimation"]
[null,"Afin de  … En tant que …. Je veux ….",null,20]
[]
[null,"Comment tester ?"]
[null,"Soit ...  lorsqu'il  ... alors …."]
[]
[]
[]
["Backlog Item #5"]
[{"$nulls":3},"Importance"]
[null,"besoin 3",null,9]
[null,"Histoire",null,"Estimation"]
[null,"Afin de  … En tant que …. Je veux ….",null,15]
[]
[null,"Comment tester ?"]
[null,"Soit ...  lorsqu'il  ... alors …."]
[]
[]
[]
["Backlog Item #4"]
[{"$nulls":3},"Importance"]
[null,"besoin 2",null,7]
[null,"Histoire",null,"Estimation"]
[null,"Afin de  … En tant que …. Je veux ….",null,20]
[]
[null,"Comment tester ?"]
[null,"Soit ...  lorsqu'il  ... alors …."]
[]
[]
[]
["Backlog Item #3"]
[{"$nulls":3},"Importance"]
[null,"besoin 1",null,5]
[null,"Histoire",null,"Estimation"]
[null,"Afin de  gerer les note En tant que formateur Je veux ….",null,8]
[]
[null,"Comment tester ?"]
[null,"Soit ...  lorsqu'il  ... alors …."]
[]
[]
[]
["Backlog Item #10"]
[{"$nulls":3},"Importance"]
[null,"besoin 8",null,5]
[null,"Histoire",null,"Estimation"]
[null,"Afin de  … En tant que …. Je veux ….",null,2]
[]
[null,"Comment tester ?"]
[null,"Soit ...  lorsqu'il  ... alors …."]
[]
[]
[]
["Backlog Item #2"]
[{"$nulls":3},"Importance"]
[null,"Valider  le doc",null,3]
[null,"Histoire",null,"Estimation"]
[null,"Afin de mettre a jour le système En tant que client Je veux valider les données",null,3]
[]
[null,"Comment tester ?"]
[null,"Soit un client lorsqu'il a fini de saisir les données manquantes alors il coche la propriété \"valider\" du document en vigueur"]
[]
[]
[]
["Backlog Item #8"]
[{"$nulls":3},"Importance"]
[null,"besoin 6",null,3]
[null,"Histoire",null,"Estimation"]
[null,"Afin de  … En tant que …. Je veux ….",null,10]
[]
[null,"Comment tester ?"]
[null,"Soit ...  lorsqu'il  ... alors …."]
[]
[]
[]
["Backlog Item #51"]
[{"$nulls":3},"Importance"]
[{"$nulls":3},0]
[null,"Histoire",null,"Estimation"]
[]
[]
[null,"Comment tester ?"]
[]
[]
[]
[]
["Backlog Item #50"]
[{"$nulls":3},"Importance"]
[{"$nulls":3},0]
[null,"Histoire",null,"Estimation"]
[]
[]
[null,"Comment tester ?"]
[]
[]
[]
[]
["Backlog Item #49"]
[{"$nulls":3},"Importance"]
[{"$nulls":3},0]
[null,"Histoire",null,"Estimation"]
[]
[]
[null,"Comment tester ?"]
[]
[]
[]
[]
["Backlog Item #54"]
[{"$nulls":3},"Importance"]
[{"$nulls":3},0]
[null,"Histoire",null,"Estimation"]
[]
[]
[null,"Comment tester ?"]
[]
[]
[]
[]
["Backlog Item #53"]
[{"$nulls":3},"Importance"]
[{"$nulls":3},0]
[null,"Histoire",null,"Estimation"]
[]
[]
[null,"Comment tester ?"]
[]
[]
[]
[]
["Backlog Item #52"]
[{"$nulls":3},"Importance"]
[{"$nulls":3},0]
[null,"Histoire",null,"Estimation"]
[]
[]
[null,"Comment tester ?"]
[]
[]
[]
[]
["Backlog Item #48"]
[{"$nulls":3},"Importance"]
[{"$nulls":3},0]
[null,"Histoire",null,"Estimation"]
[]
[]
[null,"Comment tester ?"]
[]
[]
[]
[]
["Backlog Item #44"]
[{"$nulls":3},"Importance"]
[{"$nulls":3},0]
[null,"Histoire",null,"Estimation"]
[]
[]
[null,"Comment tester ?"]
[]
[]
[]
[]
["Backlog Item #43"]
[{"$nulls":3},"Importance"]
[{"$nulls":3},0]
[null,"Histoire",null,"Estimation"]
[]
[]
[null,"Comment tester ?"]
[]
[]
[]
[]
["Backlog Item #42"]
[{"$nulls":3},"Importance"]
[{"$nulls":3},0]
[null,"Histoire",null,"Estimation"]
[]
[]
[null,"Comment tester ?"]
[]
[]
[]
[]
["Backlog Item #47"]
[{"$nulls":3},"Importance"]
[{"$nulls":3},0]
[null,"Histoire",null,"Estimation"]
[]
[]
[null,"Comment tester ?"]
[]
[]
[]
[]
["Backlog Item #46"]
[{"$nulls":3},"Importance"]
[{"$nulls":3},0]
[null,"Histoire",null,"Estimation"]
[]
[]
[null,"Comment tester ?"]
[]
[]
[]
[]
["Backlog Item #45"]
[{"$nulls":3},"Importance"]
[{"$nulls":3},0]
[null,"Histoire",null,"Estimation"]
[]
[]
[null,"Comment tester ?"]
[]
[]
[]
[]
["Backlog Item #55"]
[{"$nulls":3},"Importance"]
[{"$nulls":3},0]
[null,"Histoire",null,"Estimation"]
[]
[]
[null,"Comment tester ?"]
[]
[]
[]
[]
["Backlog Item #65"]
[{"$nulls":3},"Importance"]
[{"$nulls":3},0]
[null,"Histoire",null,"Estimation"]
[]
[]
[null,"Comment tester ?"]
[]
[]
[]
[]
["Backlog Item #64"]
[{"$nulls":3},"Importance"]
[{"$nulls":3},0]
[null,"Histoire",null,"Estimation"]
[]
[]
[null,"Comment tester ?"]

{"sheet":"TEMPLATE","index":4,"n_rows":267,"n_cols":12,"rows_kept":267}
["Backlog item #"]
[{"$nulls":3},"Importance"]
[null,"Story name description",null,0]
[null,"Histoire",null,"Estimation"]
[null,"Notes for this story",null,0]
[]
[null,"Comment tester ?"]
[null,"This explains how to demo"]
[]
[]
[{"$nulls":7},{"$f":"BACKLOG!C7","v":"Afficher les anomalies"},{"$f":"BACKLOG!A7","v":1},{"$f":"BACKLOG!B7","v":30},{"$f":"BACKLOG!F7","v":5},"Utiliser pour la fonction recherche dans les sprints"]
[{"$nulls":7},{"$f":"BACKLOG!C8","v":"Valider  le doc"},{"$f":"BACKLOG!A8","v":2},{"$f":"BACKLOG!B8","v":3},{"$f":"BACKLOG!F8","v":3}]
[{"$nulls":7},{"$f":"BACKLOG!C9","v":"besoin 1"},{"$f":"BACKLOG!A9","v":3},{"$f":"BACKLOG!B9","v":5},{"$f":"BACKLOG!F9","v":8}]
[{"$nulls":7},{"$f":"BACKLOG!C10","v":"besoin 2"},{"$f":"BACKLOG!A10","v":4},{"$f":"BACKLOG!B10","v":7},{"$f":"BACKLOG!F10","v":20}]
[{"$nulls":7},{"$f":"BACKLOG!C11","v":"besoin 3"},{"$f":"BACKLOG!A11","v":5},{"$f":"BACKLOG!B11","v":9},{"$f":"BACKLOG!F11","v":15}]
[{"$nulls":7},{"$f":"BACKLOG!C12","v":"besoin 4"},{"$f":"BACKLOG!A12","v":6},{"$f":"BACKLOG!B12","v":11},{"$f":"BACKLOG!F12","v":1}]
[{"$nulls":7},{"$f":"BACKLOG!C13","v":"besoin 5"},{"$f":"BACKLOG!A13","v":7},{"$f":"BACKLOG!B13","v":10},{"$f":"BACKLOG!F13","v":20}]
[{"$nulls":7},{"$f":"BACKLOG!C14","v":"besoin 6"},{"$f":"BACKLOG!A14","v":8},{"$f":"BACKLOG!B14","v":3},{"$f":"BACKLOG!F14","v":10}]
[{"$nulls":7},{"$f":"BACKLOG!C15","v":"besoin 7"},{"$f":"BACKLOG!A15","v":9},{"$f":"BACKLOG!B15","v":17},{"$f":"BACKLOG!F15","v":20}]
[{"$nulls":7},{"$f":"BACKLOG!C16","v":"besoin 8"},{"$f":"BACKLOG!A16","v":10},{"$f":"BACKLOG!B16","v":5},{"$f":"BACKLOG!F16","v":2}]
[{"$nulls":7},{"$f":"BACKLOG!C17","v":"besoin 9"},{"$f":"BACKLOG!A17","v":11},{"$f":"BACKLOG!B17","v":21},{"$f":"BACKLOG!F17","v":4}]
[{"$nulls":7},{"$f":"BACKLOG!C18","v":"besoin 10"},{"$f":"BACKLOG!A18","v":12},{"$f":"BACKLOG!B18","v":23},{"$f":"BACKLOG!F18","v":53}]
[{"$nulls":7},{"$f":"BACKLOG!C19","v":"besoin 11"},{"$f":"BACKLOG!A19","v":13},{"$f":"BACKLOG!B19","v":25},{"$f":"BACKLOG!F19","v":3}]
[{"$nulls":7},{"$f":"BACKLOG!C20","v":"besoin 12"},{"$f":"BACKLOG!A20","v":14},{"$f":"BACKLOG!B20","v":27},{"$f":"BACKLOG!F20","v":5}]
[{"$nulls":7},{"$f":"BACKLOG!C21","v":0},{"$f":"BACKLOG!A21","v":15},{"$f":"BACKLOG!B21","v":0},{"$f":"BACKLOG!F21","v":0}]
[{"$nulls":7},{"$f":"BACKLOG!C22","v":0},{"$f":"BACKLOG!A22","v":16},{"$f":"BACKLOG!B22","v":0},{"$f":"BACKLOG!F22","v":0}]
[{"$nulls":7},{"$f":"BACKLOG!C23","v":0},{"$f":"BACKLOG!A23","v":17},{"$f":"BACKLOG!B23","v":0},{"$f":"BACKLOG!F23","v":0}]
[{"$nulls":7},{"$f":"BACKLOG!C24","v":0},{"$f":"BACKLOG!A24","v":18},{"$f":"BACKLOG!B24","v":0},{"$f":"BACKLOG!F24","v":0}]
[{"$nulls":7},{"$f":"BACKLOG!C25","v":0},{"$f":"BACKLOG!A25","v":19},{"$f":"BACKLOG!B25","v":0},{"$f":"BACKLOG!F25","v":0}]
[{"$nulls":7},{"$f":"BACKLOG!C26","v":0},{"$f":"BACKLOG!A26","v":20},{"$f":"BACKLOG!B26","v":0},{"$f":"BACKLOG!F26","v":0}]
[{"$nulls":7},{"$f":"BACKLOG!C27","v":0},{"$f":"BACKLOG!A27","v":21},{"$f":"BACKLOG!B27","v":0},{"$f":"BACKLOG!F27","v":0}]
[{"$nulls":7},{"$f":"BACKLOG!C28","v":0},{"$f":"BACKLOG!A28","v":22},{"$f":"BACKLOG!B28","v":0},{"$f":"BACKLOG!F28","v":0}]
[{"$nulls":7},{"$f":"BACKLOG!C29","v":0},{"$f":"BACKLOG!A29","v":23},{"$f":"BACKLOG!B29","v":0},{"$f":"BACKLOG!F29","v":0}]
[{"$nulls":7},{"$f":"BACKLOG!C30","v":0},{"$f":"BACKLOG!A30","v":24},{"$f":"BACKLOG!B30","v":0},{"$f":"BACKLOG!F30","v":0}]
[{"$nulls":7},{"$f":"BACKLOG!C31","v":0},{"$f":"BACKLOG!A31","v":25},{"$f":"BACKLOG!B31","v":0},{"$f":"BACKLOG!F31","v":0}]
[{"$nulls":7},{"$f":"BACKLOG!C32","v":0},{"$f":"BACKLOG!A32","v":26},{"$f":"BACKLOG!B32","v":0},{"$f":"BACKLOG!F32","v":0}]
[{"$nulls":7},{"$f":"BACKLOG!C33","v":0},{"$f":"BACKLOG!A33","v":27},{"$f":"BACKLOG!B33","v":0},{"$f":"BACKLOG!F33","v":0}]
[{"$nulls":7},{"$f":"BACKLOG!C34","v":0},{"$f":"BACKLOG!A34","v":28},{"$f":"BACKLOG!B34","v":0},{"$f":"BACKLOG!F34","v":0}]
[{"$nulls":7},{"$f":"BACKLOG!C35","v":0},{"$f":"BACKLOG!A35","v":29},{"$f":"BACKLOG!B35","v":0},{"$f":"BACKLOG!F35","v":0}]
[{"$nulls":7},{"$f":"BACKLOG!C36","v":0},{"$f":"BACKLOG!A36","v":30},{"$f":"BACKLOG!B36","v":0},{"$f":"BACKLOG!F36","v":0}]
[{"$nulls":7},{"$f":"BACKLOG!C37","v":0},{"$f":"BACKLOG!A37","v":31},{"$f":"BACKLOG!B37","v":0},{"$f":"BACKLOG!F37","v":0}]
[{"$nulls":7},{"$f":"BACKLOG!C38","v":0},{"$f":"BACKLOG!A38","v":32},{"$f":"BACKLOG!B38","v":0},{"$f":"BACKLOG!F38","v":0}]
[{"$nulls":7},{"$f":"BACKLOG!C39","v":0},{"$f":"BACKLOG!A39","v":33},{"$f":"BACKLOG!B39","v":0},{"$f":"BACKLOG!F39","v":0}]
[{"$nulls":7},{"$f":"BACKLOG!C40","v":0},{"$f":"BACKLOG!A40","v":34},{"$f":"BACKLOG!B40","v":0},{"$f":"BACKLOG!F40","v":0}]
[{"$nulls":7},{"$f":"BACKLOG!C41","v":0},{"$f":"BACKLOG!A41","v":35},{"$f":"BACKLOG!B41","v":0},{"$f":"BACKLOG!F41","v":0}]
[{"$nulls":7},{"$f":"BACKLOG!C42","v":0},{"$f":"BACKLOG!A42","v":36},{"$f":"BACKLOG!B42","v":0},{"$f":"BACKLOG!F42","v":0}]
[{"$nulls":7},{"$f":"BACKLOG!C43","v":0},{"$f":"BACKLOG!A43","v":37},{"$f":"BACKLOG!B43","v":0},{"$f":"BACKLOG!F43","v":0}]
[{"$nulls":7},{"$f":"BACKLOG!C44","v":0},{"$f":"BACKLOG!A44","v":38},{"$f":"BACKLOG!B44","v":0},{"$f":"BACKLOG!F44","v":0}]
[{"$nulls":7},{"$f":"BACKLOG!C45","v":0},{"$f":"BACKLOG!A45","v":39},{"$f":"BACKLOG!B45","v":0},{"$f":"BACKLOG!F45","v":0}]
[{"$nulls":7},{"$f":"BACKLOG!C46","v":0},{"$f":"BACKLOG!A46","v":40},{"$f":"BACKLOG!B46","v":0},{"$f":"BACKLOG!F46","v":0}]
[{"$nulls":7},{"$f":"BACKLOG!C47","v":0},{"$f":"BACKLOG!A47","v":41},{"$f":"BACKLOG!B47","v":0},{"$f":"BACKLOG!F47","v":0}]
[{"$nulls":7},{"$f":"BACKLOG!C48","v":0},{"$f":"BACKLOG!A48","v":42},{"$f":"BACKLOG!B48","v":0},{"$f":"BACKLOG!F48","v":0}]
[{"$nulls":7},{"$f":"BACKLOG!C49","v":0},{"$f":"BACKLOG!A49","v":43},{"$f":"BACKLOG!B49","v":0},{"$f":"BACKLOG!F49","v":0}]
[{"$nulls":7},{"$f":"BACKLOG!C50","v":0},{"$f":"BACKLOG!A50","v":44},{"$f":"BACKLOG!B50","v":0},{"$f":"BACKLOG!F50","v":0}]
[{"$nulls":7},{"$f":"BACKLOG!C51","v":0},{"$f":"BACKLOG!A51","v":45},{"$f":"BACKLOG!B51","v":0},{"$f":"BACKLOG!F51","v":0}]
[{"$nulls":7},{"$f":"BACKLOG!C52","v":0},{"$f":"BACKLOG!A52","v":46},{"$f":"BACKLOG!B52","v":0},{"$f":"BACKLOG!F52","v":0}]
[{"$nulls":7},{"$f":"BACKLOG!C53","v":0},{"$f":"BACKLOG!A53","v":47},{"$f":"BACKLOG!B53","v":0},{"$f":"BACKLOG!F53","v":0}]
[{"$nulls":7},{"$f":"BACKLOG!C54","v":0},{"$f":"BACKLOG!A54","v":48},{"$f":"BACKLOG!B54","v":0},{"$f":"BACKLOG!F54","v":0}]
[{"$nulls":7},{"$f":"BACKLOG!C55","v":0},{"$f":"BACKLOG!A55","v":49},{"$f":"BACKLOG!B55","v":0},{"$f":"BACKLOG!F55","v":0}]
[{"$nulls":7},{"$f":"BACKLOG!C56","v":0},{"$f":"BACKLOG!A56","v":50},{"$f":"BACKLOG!B56","v":0},{"$f":"BACKLOG!F56","v":0}]
[{"$nulls":7},{"$f":"BACKLOG!C57","v":0},{"$f":"BACKLOG!A57","v":51},{"$f":"BACKLOG!B57","v":0},{"$f":"BACKLOG!F57","v":0}]
[{"$nulls":7},{"$f":"BACKLOG!C58","v":0},{"$f":"BACKLOG!A58","v":52},{"$f":"BACKLOG!B58","v":0},{"$f":"BACKLOG!F58","v":0}]
[{"$nulls":7},{"$f":"BACKLOG!C59","v":0},{"$f":"BACKLOG!A59","v":53},{"$f":"BACKLOG!B59","v":0},{"$f":"BACKLOG!F59","v":0}]
[{"$nulls":7},{"$f":"BACKLOG!C60","v":0},{"$f":"BACKLOG!A60","v":54},{"$f":"BACKLOG!B60","v":0},{"$f":"BACKLOG!F60","v":0}]
[{"$nulls":7},{"$f":"BACKLOG!C61","v":0},{"$f":"BACKLOG!A61","v":55},{"$f":"BACKLOG!B61","v":0},{"$f":"BACKLOG!F61","v":0}]
[{"$nulls":7},{"$f":"BACKLOG!C62","v":0},{"$f":"BACKLOG!A62","v":56},{"$f":"BACKLOG!B62","v":0},{"$f":"BACKLOG!F62","v":0}]
[{"$nulls":7},{"$f":"BACKLOG!C63","v":0},{"$f":"BACKLOG!A63","v":57},{"$f":"BACKLOG!B63","v":0},{"$f":"BACKLOG!F63","v":0}]
[{"$nulls":7},{"$f":"BACKLOG!C64","v":0},{"$f":"BACKLOG!A64","v":58},{"$f":"BACKLOG!B64","v":0},{"$f":"BACKLOG!F64","v":0}]
[{"$nulls":7},{"$f":"BACKLOG!C65","v":0},{"$f":"BACKLOG!A65","v":59},{"$f":"BACKLOG!B65","v":0},{"$f":"BACKLOG!F65","v":0}]
[{"$nulls":7},{"$f":"BACKLOG!C66","v":0},{"$f":"BACKLOG!A66","v":60},{"$f":"BACKLOG!B66","v":0},{"$f":"BACKLOG!F66","v":0}]
[{"$nulls":7},{"$f":"BACKLOG!C67","v":0},{"$f":"BACKLOG!A67","v":61},{"$f":"BACKLOG!B67","v":0},{"$f":"BACKLOG!F67","v":0}]
[{"$nulls":7},{"$f":"BACKLOG!C68","v":0},{"$f":"BACKLOG!A68","v":62},{"$f":"BACKLOG!B68","v":0},{"$f":"BACKLOG!F68","v":0}]
[{"$nulls":7},{"$f":"BACKLOG!C69","v":0},{"$f":"BACKLOG!A69","v":63},{"$f":"BACKLOG!B69","v":0},{"$f":"BACKLOG!F69","v":0}]
[{"$nulls":7},{"$f":"BACKLOG!C70","v":0},{"$f":"BACKLOG!A70","v":64},{"$f":"BACKLOG!B70","v":0},{"$f":"BACKLOG!F70","v":0}]
[{"$nulls":7},{"$f":"BACKLOG!C71","v":0},{"$f":"BACKLOG!A71","v":65},{"$f":"BACKLOG!B71","v":0},{"$f":"BACKLOG!F71","v":0}]
[{"$nulls":7},{"$f":"BACKLOG!C72","v":0},{"$f":"BACKLOG!A72","v":66},{"$f":"BACKLOG!B72","v":0},{"$f":"BACKLOG!F72","v":0}]
[{"$nulls":7},{"$f":"BACKLOG!C73","v":0},{"$f":"BACKLOG!A73","v":67},{"$f":"BACKLOG!B73","v":0},{"$f":"BACKLOG!F73","v":0}]
[{"$nulls":7},{"$f":"BACKLOG!C74","v":0},{"$f":"BACKLOG!A74","v":68},{"$f":"BACKLOG!B74","v":0},{"$f":"BACKLOG!F74","v":0}]
[{"$nulls":7},{"$f":"BACKLOG!C75","v":0},{"$f":"BACKLOG!A75","v":69},{"$f":"BACKLOG!B75","v":0},{"$f":"BACKLOG!F75","v":0}]
[{"$nulls":7},{"$f":"BACKLOG!C76","v":0},{"$f":"BACKLOG!A76","v":70},{"$f":"BACKLOG!B76","v":0},{"$f":"BACKLOG!F76","v":0}]
[{"$nulls":7},{"$f":"BACKLOG!C77","v":0},{"$f":"BACKLOG!A77","v":71},{"$f":"BACKLOG!B77","v":0},{"$f":"BACKLOG!F77","v":0}]
[{"$nulls":7},{"$f":"BACKLOG!C78","v":0},{"$f":"BACKLOG!A78","v":72},{"$f":"BACKLOG!B78","v":0},{"$f":"BACKLOG!F78","v":0}]
[{"$nulls":7},{"$f":"BACKLOG!C79","v":0},{"$f":"BACKLOG!A79","v":73},{"$f":"BACKLOG!B79","v":0},{"$f":"BACKLOG!F79","v":0}]
[{"$nulls":7},{"$f":"BACKLOG!C80","v":0},{"$f":"BACKLOG!A80","v":74},{"$f":"BACKLOG!B80","v":0},{"$f":"BACKLOG!F80","v":0}]
[{"$nulls":7},{"$f":"BACKLOG!C81","v":0},{"$f":"BACKLOG!A81","v":75},{"$f":"BACKLOG!B81","v":0},{"$f":"BACKLOG!F81","v":0}]
[{"$nulls":7},{"$f":"BACKLOG!C82","v":0},{"$f":"BACKLOG!A82","v":76},{"$f":"BACKLOG!B82","v":0},{"$f":"BACKLOG!F82","v":0}]
[{"$nulls":7},{"$f":"BACKLOG!C83","v":0},{"$f":"BACKLOG!A83","v":77},{"$f":"BACKLOG!B83","v":0},{"$f":"BACKLOG!F83","v":0}]
[{"$nulls":7},{"$f":"BACKLOG!C84","v":0},{"$f":"BACKLOG!A84","v":78},{"$f":"BACKLOG!B84","v":0},{"$f":"BACKLOG!F84","v":0}]
[{"$nulls":7},{"$f":"BACKLOG!C85","v":0},{"$f":"BACKLOG!A85","v":79},{"$f":"BACKLOG!B85","v":0},{"$f":"BACKLOG!F85","v":0}]
[{"$nulls":7},{"$f":"BACKLOG!C86","v":0},{"$f":"BACKLOG!A86","v":80},{"$f":"BACKLOG!B86","v":0},{"$f":"BACKLOG!F86","v":0}]
[{"$nulls":7},{"$f":"BACKLOG!C87","v":0},{"$f":"BACKLOG!A87","v":81},{"$f":"BACKLOG!B87","v":0},{"$f":"BACKLOG!F87","v":0}]
[{"$nulls":7},{"$f":"BACKLOG!C88","v":0},{"$f":"BACKLOG!A88","v":82},{"$f":"BACKLOG!B88","v":0},{"$f":"BACKLOG!F88","v":0}]
[{"$nulls":7},{"$f":"BACKLOG!C89","v":0},{"$f":"BACKLOG!A89","v":83},{"$f":"BACKLOG!B89","v":0},{"$f":"BACKLOG!F89","v":0}]
[{"$nulls":7},{"$f":"BACKLOG!C90","v":0},{"$f":"BACKLOG!A90","v":84},{"$f":"BACKLOG!B90","v":0},{"$f":"BACKLOG!F90","v":0}]
[{"$nulls":7},{"$f":"BACKLOG!C91","v":0},{"$f":"BACKLOG!A91","v":85},{"$f":"BACKLOG!B91","v":0},{"$f":"BACKLOG!F91","v":0}]
[{"$nulls":7},{"$f":"BACKLOG!C92","v":0},{"$f":"BACKLOG!A92","v":86},{"$f":"BACKLOG!B92","v":0},{"$f":"BACKLOG!F92","v":0}]
[{"$nulls":7},{"$f":"BACKLOG!C93","v":0},{"$f":"BACKLOG!A93","v":87},{"$f":"BACKLOG!B93","v":0},{"$f":"BACKLOG!F93","v":0}]
[{"$nulls":7},{"$f":"BACKLOG!C94","v":0},{"$f":"BACKLOG!A94","v":88},{"$f":"BACKLOG!B94","v":0},{"$f":"BACKLOG!F94","v":0}]
[{"$nulls":7},{"$f":"BACKLOG!C95","v":0},{"$f":"BACKLOG!A95","v":89},{"$f":"BACKLOG!B95","v":0},{"$f":"BACKLOG!F95","v":0}]
[{"$nulls":7},{"$f":"BACKLOG!C96","v":0},{"$f":"BACKLOG!A96","v":90},{"$f":"BACKLOG!B96","v":0},{"$f":"BACKLOG!F96","v":0}]
[{"$nulls":7},{"$f":"BACKLOG!C97","v":0},{"$f":"BACKLOG!A97","v":91},{"$f":"BACKLOG!B97","v":0},{"$f":"BACKLOG!F97","v":0}]
[{"$nulls":7},{"$f":"BACKLOG!C98","v":0},{"$f":"BACKLOG!A98","v":92},{"$f":"BACKLOG!B98","v":0},{"$f":"BACKLOG!F98","v":0}]
[{"$nulls":7},{"$f":"BACKLOG!C99","v":0},{"$f":"BACKLOG!A99","v":93},{"$f":"BACKLOG!B99","v":0},{"$f":"BACKLOG!F99","v":0}]
[{"$nulls":7},{"$f":"BACKLOG!C100","v":0},{"$f":"BACKLOG!A100","v":94},{"$f":"BACKLOG!B100","v":0},{"$f":"BACKLOG!F100","v":0}]
[{"$nulls":7},{"$f":"BACKLOG!C101","v":0},{"$f":"BACKLOG!A101","v":95},{"$f":"BACKLOG!B101","v":0},{"$f":"BACKLOG!F101","v":0}]
[{"$nulls":7},{"$f":"BACKLOG!C102","v":0},{"$f":"BACKLOG!A102","v":96},{"$f":"BACKLOG!B102","v":0},{"$f":"BACKLOG!F102","v":0}]
[{"$nulls":7},{"$f":"BACKLOG!C103","v":0},{"$f":"BACKLOG!A103","v":97},{"$f":"BACKLOG!B103","v":0},{"$f":"BACKLOG!F103","v":0}]
[{"$nulls":7},{"$f":"BACKLOG!C104","v":0},{"$f":"BACKLOG!A104","v":98},{"$f":"BACKLOG!B104","v":0},{"$f":"BACKLOG!F104","v":0}]
[{"$nulls":7},{"$f":"BACKLOG!C105","v":0},{"$f":"BACKLOG!A105","v":99},{"$f":"BACKLOG!B105","v":0},{"$f":"BACKLOG!F105","v":0}]
[{"$nulls":7},{"$f":"BACKLOG!C106","v":0},{"$f":"BACKLOG!A106","v":100},{"$f":"BACKLOG!B106","v":0},{"$f":"BACKLOG!F106","v":0}]
[{"$nulls":7},{"$f":"BACKLOG!C107","v":0},{"$f":"BACKLOG!A107","v":101},{"$f":"BACKLOG!B107","v":0},{"$f":"BACKLOG!F107","v":0}]
[{"$nulls":7},{"$f":"BACKLOG!C108","v":0},{"$f":"BACKLOG!A108","v":102},{"$f":"BACKLOG!B108","v":0},{"$f":"BACKLOG!F108","v":0}]
[{"$nulls":7},{"$f":"BACKLOG!C109","v":0},{"$f":"BACKLOG!A109","v":103},{"$f":"BACKLOG!B109","v":0},{"$f":"BACKLOG!F109","v":0}]
[{"$nulls":7},{"$f":"BACKLOG!C110","v":0},{"$f":"BACKLOG!A110","v":104},{"$f":"BACKLOG!B110","v":0},{"$f":"BACKLOG!F110","v":0}]
[{"$nulls":7},{"$f":"BACKLOG!C111","v":0},{"$f":"BACKLOG!A111","v":105},{"$f":"BACKLOG!B111","v":0},{"$f":"BACKLOG!F111","v":0}]
[{"$nulls":7},{"$f":"BACKLOG!C112","v":0},{"$f":"BACKLOG!A112","v":106},{"$f":"BACKLOG!B112","v":0},{"$f":"BACKLOG!F112","v":0}]
[{"$nulls":7},{"$f":"BACKLOG!C113","v":0},{"$f":"BACKLOG!A113","v":107},{"$f":"BACKLOG!B113","v":0},{"$f":"BACKLOG!F113","v":0}]
[{"$nulls":7},{"$f":"BACKLOG!C114","v":0},{"$f":"BACKLOG!A114","v":108},{"$f":"BACKLOG!B114","v":0},{"$f":"BACKLOG!F114","v":0}]
[{"$nulls":7},{"$f":"BACKLOG!C115","v":0},{"$f":"BACKLOG!A115","v":109},{"$f":"BACKLOG!B115","v":0},{"$f":"BACKLOG!F115","v":0}]
[{"$nulls":7},{"$f":"BACKLOG!C116","v":0},{"$f":"BACKLOG!A116","v":110},{"$f":"BACKLOG!B116","v":0},{"$f":"BACKLOG!F116","v":0}]
[{"$nulls":7},{"$f":"BACKLOG!C117","v":0},{"$f":"BACKLOG!A117","v":111},{"$f":"BACKLOG!B117","v":0},{"$f":"BACKLOG!F117","v":0}]
[{"$nulls":7},{"$f":"BACKLOG!C118","v":0},{"$f":"BACKLOG!A118","v":112},{"$f":"BACKLOG!B118","v":0},{"$f":"BACKLOG!F118","v":0}]
[{"$nulls":7},{"$f":"BACKLOG!C119","v":0},{"$f":"BACKLOG!A119","v":113},{"$f":"BACKLOG!B119","v":0},{"$f":"BACKLOG!F119","v":0}]
[{"$nulls":7},{"$f":"BACKLOG!C120","v":0},{"$f":"BACKLOG!A120","v":114},{"$f":"BACKLOG!B120","v":0},{"$f":"BACKLOG!F120","v":0}]
[{"$nulls":7},{"$f":"BACKLOG!C121","v":0},{"$f":"BACKLOG!A121","v":115},{"$f":"BACKLOG!B121","v":0},{"$f":"BACKLOG!F121","v":0}]
[{"$nulls":7},{"$f":"BACKLOG!C122","v":0},{"$f":"BACKLOG!A122","v":116},{"$f":"BACKLOG!B122","v":0},{"$f":"BACKLOG!F122","v":0}]
[{"$nulls":7},{"$f":"BACKLOG!C123","v":0},{"$f":"BACKLOG!A123","v":117},{"$f":"BACKLOG!B123","v":0},{"$f":"BACKLOG!F123","v":0}]
[{"$nulls":7},{"$f":"BACKLOG!C124","v":0},{"$f":"BACKLOG!A124","v":118},{"$f":"BACKLOG!B124","v":0},{"$f":"BACKLOG!F124","v":0}]
[{"$nulls":7},{"$f":"BACKLOG!C125","v":0},{"$f":"BACKLOG!A125","v":119},{"$f":"BACKLOG!B125","v":0},{"$f":"BACKLOG!F125","v":0}]
[{"$nulls":7},{"$f":"BACKLOG!C126","v":0},{"$f":"BACKLOG!A126","v":120},{"$f":"BACKLOG!B126","v":0},{"$f":"BACKLOG!F126","v":0}]
[{"$nulls":7},{"$f":"BACKLOG!C127","v":0},{"$f":"BACKLOG!A127","v":121},{"$f":"BACKLOG!B127","v":0},{"$f":"BACKLOG!F127","v":0}]
[{"$nulls":7},{"$f":"BACKLOG!C128","v":0},{"$f":"BACKLOG!A128","v":122},{"$f":"BACKLOG!B128","v":0},{"$f":"BACKLOG!F128","v":0}]
[{"$nulls":7},{"$f":"BACKLOG!C129","v":0},{"$f":"BACKLOG!A129","v":123},{"$f":"BACKLOG!B129","v":0},{"$f":"BACKLOG!F129","v":0}]
[{"$nulls":7},{"$f":"BACKLOG!C130","v":0},{"$f":"BACKLOG!A130","v":124},{"$f":"BACKLOG!B130","v":0},{"$f":"BACKLOG!F130","v":0}]
[{"$nulls":7},{"$f":"BACKLOG!C131","v":0},{"$f":"BACKLOG!A131","v":125},{"$f":"BACKLOG!B131","v":0},{"$f":"BACKLOG!F131","v":0}]
[{"$nulls":7},{"$f":"BACKLOG!C132","v":0},{"$f":"BACKLOG!A132","v":126},{"$f":"BACKLOG!B132","v":0},{"$f":"BACKLOG!F132","v":0}]
[{"$nulls":7},{"$f":"BACKLOG!C133","v":0},{"$f":"BACKLOG!A133","v":127},{"$f":"BACKLOG!B133","v":0},{"$f":"BACKLOG!F133","v":0}]
[{"$nulls":7},{"$f":"BACKLOG!C134","v":0},{"$f":"BACKLOG!A134","v":128},{"$f":"BACKLOG!B134","v":0},{"$f":"BACKLOG!F134","v":0}]
[{"$nulls":7},{"$f":"BACKLOG!C135","v":0},{"$f":"BACKLOG!A135","v":129},{"$f":"BACKLOG!B135","v":0},{"$f":"BACKLOG!F135","v":0}]
[{"$nulls":7},{"$f":"BACKLOG!C136","v":0},{"$f":"BACKLOG!A136","v":130},{"$f":"BACKLOG!B136","v":0},{"$f":"BACKLOG!F136","v":0}]
[{"$nulls":7},{"$f":"BACKLOG!C137","v":0},{"$f":"BACKLOG!A137","v":131},{"$f":"BACKLOG!B137","v":0},{"$f":"BACKLOG!F137","v":0}]
[{"$nulls":7},{"$f":"BACKLOG!C138","v":0},{"$f":"BACKLOG!A138","v":132},{"$f":"BACKLOG!B138","v":0},{"$f":"BACKLOG!F138","v":0}]
[{"$nulls":7},{"$f":"BACKLOG!C139","v":0},{"$f":"BACKLOG!A139","v":133},{"$f":"BACKLOG!B139","v":0},{"$f":"BACKLOG!F139","v":0}]
[{"$nulls":7},{"$f":"BACKLOG!C140","v":0},{"$f":"BACKLOG!A140","v":134},{"$f":"BACKLOG!B140","v":0},{"$f":"BACKLOG!F140","v":0}]
[{"$nulls":7},{"$f":"BACKLOG!C141","v":0},{"$f":"BACKLOG!A141","v":135},{"$f":"BACKLOG!B141","v":0},{"$f":"BACKLOG!F141","v":0}]
[{"$nulls":7},{"$f":"BACKLOG!C142","v":0},{"$f":"BACKLOG!A142","v":136},{"$f":"BACKLOG!B142","v":0},{"$f":"BACKLOG!F142","v":0}]
[{"$nulls":7},{"$f":"BACKLOG!C143","v":0},{"$f":"BACKLOG!A143","v":0},{"$f":"BACKLOG!B143","v":0},{"$f":"BACKLOG!F143","v":0}]
[{"$nulls":7},{"$f":"BACKLOG!C144","v":0},{"$f":"BACKLOG!A144","v":0},{"$f":"BACKLOG!B144","v":0},{"$f":"BACKLOG!F144","v":0}]
[{"$nulls":7},{"$f":"BACKLOG!C145","v":0},{"$f":"BACKLOG!A145","v":0},{"$f":"BACKLOG!B145","v":0},{"$f":"BACKLOG!F145","v":0}]
[{"$nulls":7},{"$f":"BACKLOG!C146","v":0},{"$f":"BACKLOG!A146","v":0},{"$f":"BACKLOG!B146","v":0},{"$f":"BACKLOG!F146","v":0}]
[{"$nulls":7},{"$f":"BACKLOG!C147","v":0},{"$f":"BACKLOG!A147","v":0},{"$f":"BACKLOG!B147","v":0},{"$f":"BACKLOG!F147","v":0}]
[{"$nulls":7},{"$f":"BACKLOG!C148","v":0},{"$f":"BACKLOG!A148","v":0},{"$f":"BACKLOG!B148","v":0},{"$f":"BACKLOG!F148","v":0}]
[{"$nulls":7},{"$f":"BACKLOG!C149","v":0},{"$f":"BACKLOG!A149","v":0},{"$f":"BACKLOG!B149","v":0},{"$f":"BACKLOG!F149","v":0}]
[{"$nulls":7},{"$f":"BACKLOG!C150","v":0},{"$f":"BACKLOG!A150","v":0},{"$f":"BACKLOG!B150","v":0},{"$f":"BACKLOG!F150","v":0}]
[{"$nulls":7},{"$f":"BACKLOG!C151","v":0},{"$f":"BACKLOG!A151","v":0},{"$f":"BACKLOG!B151","v":0},{"$f":"BACKLOG!F151","v":0}]
[{"$nulls":7},{"$f":"BACKLOG!C152","v":0},{"$f":"BACKLOG!A152","v":0},{"$f":"BACKLOG!B152","v":0},{"$f":"BACKLOG!F152","v":0}]
[{"$nulls":7},{"$f":"BACKLOG!C153","v":0},{"$f":"BACKLOG!A153","v":0},{"$f":"BACKLOG!B153","v":0},{"$f":"BACKLOG!F153","v":0}]
[{"$nulls":7},{"$f":"BACKLOG!C154","v":0},{"$f":"BACKLOG!A154","v":0},{"$f":"BACKLOG!B154","v":0},{"$f":"BACKLOG!F154","v":0}]
[{"$nulls":7},{"$f":"BACKLOG!C155","v":0},{"$f":"BACKLOG!A155","v":0},{"$f":"BACKLOG!B155","v":0},{"$f":"BACKLOG!F155","v":0}]
[{"$nulls":7},{"$f":"BACKLOG!C156","v":0},{"$f":"BACKLOG!A156","v":0},{"$f":"BACKLOG!B156","v":0},{"$f":"BACKLOG!F156","v":0}]
[{"$nulls":7},{"$f":"BACKLOG!C157","v":0},{"$f":"BACKLOG!A157","v":0},{"$f":"BACKLOG!B157","v":0},{"$f":"BACKLOG!F157","v":0}]
[{"$nulls":7},{"$f":"BACKLOG!C158","v":0},{"$f":"BACKLOG!A158","v":0},{"$f":"BACKLOG!B158","v":0},{"$f":"BACKLOG!F158","v":0}]
[{"$nulls":7},{"$f":"BACKLOG!C159","v":0},{"$f":"BACKLOG!A159","v":0},{"$f":"BACKLOG!B159","v":0},{"$f":"BACKLOG!F159","v":0}]
[{"$nulls":7},{"$f":"BACKLOG!C160","v":0},{"$f":"BACKLOG!A160","v":0},{"$f":"BACKLOG!B160","v":0},{"$f":"BACKLOG!F160","v":0}]
[{"$nulls":7},{"$f":"BACKLOG!C161","v":0},{"$f":"BACKLOG!A161","v":0},{"$f":"BACKLOG!B161","v":0},{"$f":"BACKLOG!F161","v":0}]
[{"$nulls":7},{"$f":"BACKLOG!C162","v":0},{"$f":"BACKLOG!A162","v":0},{"$f":"BACKLOG!B162","v":0},{"$f":"BACKLOG!F162","v":0}]
[{"$nulls":7},{"$f":"BACKLOG!C163","v":0},{"$f":"BACKLOG!A163","v":0},{"$f":"BACKLOG!B163","v":0},{"$f":"BACKLOG!F163","v":0}]
[{"$nulls":7},{"$f":"BACKLOG!C164","v":0},{"$f":"BACKLOG!A164","v":0},{"$f":"BACKLOG!B164","v":0},{"$f":"BACKLOG!F164","v":0}]
[{"$nulls":7},{"$f":"BACKLOG!C165","v":0},{"$f":"BACKLOG!A165","v":0},{"$f":"BACKLOG!B165","v":0},{"$f":"BACKLOG!F165","v":0}]
[{"$nulls":7},{"$f":"BACKLOG!C166","v":0},{"$f":"BACKLOG!A166","v":0},{"$f":"BACKLOG!B166","v":0},{"$f":"BACKLOG!F166","v":0}]
[{"$nulls":7},{"$f":"BACKLOG!C167","v":0},{"$f":"BACKLOG!A167","v":0},{"$f":"BACKLOG!B167","v":0},{"$f":"BACKLOG!F167","v":0}]
[{"$nulls":7},{"$f":"BACKLOG!C168","v":0},{"$f":"BACKLOG!A168","v":0},{"$f":"BACKLOG!B168","v":0},{"$f":"BACKLOG!F168","v":0}]
[{"$nulls":7},{"$f":"BACKLOG!C169","v":0},{"$f":"BACKLOG!A169","v":0},{"$f":"BACKLOG!B169","v":0},{"$f":"BACKLOG!F169","v":0}]
[{"$nulls":7},{"$f":"BACKLOG!C170","v":0},{"$f":"BACKLOG!A170","v":0},{"$f":"BACKLOG!B170","v":0},{"$f":"BACKLOG!F170","v":0}]
[{"$nulls":7},{"$f":"BACKLOG!C171","v":0},{"$f":"BACKLOG!A171","v":0},{"$f":"BACKLOG!B171","v":0},{"$f":"BACKLOG!F171","v":0}]
[{"$nulls":7},{"$f":"BACKLOG!C172","v":0},{"$f":"BACKLOG!A172","v":0},{"$f":"BACKLOG!B172","v":0},{"$f":"BACKLOG!F172","v":0}]
[{"$nulls":7},{"$f":"BACKLOG!C173","v":0},{"$f":"BACKLOG!A173","v":0},{"$f":"BACKLOG!B173","v":0},{"$f":"BACKLOG!F173","v":0}]
[{"$nulls":7},{"$f":"BACKLOG!C174","v":0},{"$f":"BACKLOG!A174","v":0},{"$f":"BACKLOG!B174","v":0},{"$f":"BACKLOG!F174","v":0}]
[{"$nulls":7},{"$f":"BACKLOG!C175","v":0},{"$f":"BACKLOG!A175","v":0},{"$f":"BACKLOG!B175","v":0},{"$f":"BACKLOG!F175","v":0}]
[{"$nulls":7},{"$f":"BACKLOG!C176","v":0},{"$f":"BACKLOG!A176","v":0},{"$f":"BACKLOG!B176","v":0},{"$f":"BACKLOG!F176","v":0}]
[{"$nulls":7},{"$f":"BACKLOG!C177","v":0},{"$f":"BACKLOG!A177","v":0},{"$f":"BACKLOG!B177","v":0},{"$f":"BACKLOG!F177","v":0}]
[{"$nulls":7},{"$f":"BACKLOG!C178","v":0},{"$f":"BACKLOG!A178","v":0},{"$f":"BACKLOG!B178","v":0},{"$f":"BACKLOG!F178","v":0}]
[{"$nulls":7},{"$f":"BACKLOG!C179","v":0},{"$f":"BACKLOG!A179","v":0},{"$f":"BACKLOG!B179","v":0},{"$f":"BACKLOG!F179","v":0}]
[{"$nulls":7},{"$f":"BACKLOG!C180","v":0},{"$f":"BACKLOG!A180","v":0},{"$f":"BACKLOG!B180","v":0},{"$f":"BACKLOG!F180","v":0}]
[{"$nulls":7},{"$f":"BACKLOG!C181","v":0},{"$f":"BACKLOG!A181","v":0},{"$f":"BACKLOG!B181","v":0},{"$f":"BACKLOG!F181","v":0}]
[{"$nulls":7},{"$f":"BACKLOG!C182","v":0},{"$f":"BACKLOG!A182","v":0},{"$f":"BACKLOG!B182","v":0},{"$f":"BACKLOG!F182","v":0}]
[{"$nulls":7},{"$f":"BACKLOG!C183","v":0},{"$f":"BACKLOG!A183","v":0},{"$f":"BACKLOG!B183","v":0},{"$f":"BACKLOG!F183","v":0}]
[{"$nulls":7},{"$f":"BACKLOG!C184","v":0},{"$f":"BACKLOG!A184","v":0},{"$f":"BACKLOG!B184","v":0},{"$f":"BACKLOG!F184","v":0}]
[{"$nulls":7},{"$f":"BACKLOG!C185","v":0},{"$f":"BACKLOG!A185","v":0},{"$f":"BACKLOG!B185","v":0},{"$f":"BACKLOG!F185","v":0}]
[{"$nulls":7},{"$f":"BACKLOG!C186","v":0},{"$f":"BACKLOG!A186","v":0},{"$f":"BACKLOG!B186","v":0},{"$f":"BACKLOG!F186","v":0}]
[{"$nulls":7},{"$f":"BACKLOG!C187","v":0},{"$f":"BACKLOG!A187","v":0},{"$f":"BACKLOG!B187","v":0},{"$f":"BACKLOG!F187","v":0}]
[{"$nulls":7},{"$f":"BACKLOG!C188","v":0},{"$f":"BACKLOG!A188","v":0},{"$f":"BACKLOG!B188","v":0},{"$f":"BACKLOG!F188","v":0}]
[{"$nulls":7},{"$f":"BACKLOG!C189","v":0},{"$f":"BACKLOG!A189","v":0},{"$f":"BACKLOG!B189","v":0},{"$f":"BACKLOG!F189","v":0}]
[{"$nulls":7},{"$f":"BACKLOG!C190","v":0},{"$f":"BACKLOG!A190","v":0},{"$f":"BACKLOG!B190","v":0},{"$f":"BACKLOG!F190","v":0}]
[{"$nulls":7},{"$f":"BACKLOG!C191","v":0},{"$f":"BACKLOG!A191","v":0},{"$f":"BACKLOG!B191","v":0},{"$f":"BACKLOG!F191","v":0}]
[{"$nulls":7},{"$f":"BACKLOG!C192","v":0},{"$f":"BACKLOG!A192","v":0},{"$f":"BACKLOG!B192","v":0},{"$f":"BACKLOG!F192","v":0}]
[{"$nulls":7},{"$f":"BACKLOG!C193","v":0},{"$f":"BACKLOG!A193","v":0},{"$f":"BACKLOG!B193","v":0},{"$f":"BACKLOG!F193","v":0}]
[{"$nulls":7},{"$f":"BACKLOG!C194","v":0},{"$f":"BACKLOG!A194","v":0},{"$f":"BACKLOG!B194","v":0},{"$f":"BACKLOG!F194","v":0}]
[{"$nulls":7},{"$f":"BACKLOG!C195","v":0},{"$f":"BACKLOG!A195","v":0},{"$f":"BACKLOG!B195","v":0},{"$f":"BACKLOG!F195","v":0}]
[{"$nulls":7},{"$f":"BACKLOG!C196","v":0},{"$f":"BACKLOG!A196","v":0},{"$f":"BACKLOG!B196","v":0},{"$f":"BACKLOG!F196","v":0}]
[{"$nulls":7},{"$f":"BACKLOG!C197","v":0},{"$f":"BACKLOG!A197","v":0},{"$f":"BACKLOG!B197","v":0},{"$f":"BACKLOG!F197","v":0}]
[{"$nulls":7},{"$f":"BACKLOG!C198","v":0},{"$f":"BACKLOG!A198","v":0},{"$f":"BACKLOG!B198","v":0},{"$f":"BACKLOG!F198","v":0}]
[{"$nulls":7},{"$f":"BACKLOG!C199","v":0},{"$f":"BACKLOG!A199","v":0},{"$f":"BACKLOG!B199","v":0},{"$f":"BACKLOG!F199","v":0}]
[{"$nulls":7},{"$f":"BACKLOG!C200","v":0},{"$f":"BACKLOG!A200","v":0},{"$f":"BACKLOG!B200","v":0},{"$f":"BACKLOG!F200","v":0}]
[{"$nulls":7},{"$f":"BACKLOG!C201","v":0},{"$f":"BACKLOG!A201","v":0},{"$f":"BACKLOG!B201","v":0},{"$f":"BACKLOG!F201","v":0}]
[{"$nulls":7},{"$f":"BACKLOG!C202","v":0},{"$f":"BACKLOG!A202","v":0},{"$f":"BACKLOG!B202","v":0},{"$f":"BACKLOG!F202","v":0}]
[{"$nulls":7},{"$f":"BACKLOG!C203","v":0},{"$f":"BACKLOG!A203","v":0},{"$f":"BACKLOG!B203","v":0},{"$f":"BACKLOG!F203","v":0}]
[{"$nulls":7},{"$f":"BACKLOG!C204","v":0},{"$f":"BACKLOG!A204","v":0},{"$f":"BACKLOG!B204","v":0},{"$f":"BACKLOG!F204","v":0}]
[{"$nulls":7},{"$f":"BACKLOG!C205","v":0},{"$f":"BACKLOG!A205","v":0},{"$f":"BACKLOG!B205","v":0},{"$f":"BACKLOG!F205","v":0}]
[{"$nulls":7},{"$f":"BACKLOG!C206","v":0},{"$f":"BACKLOG!A206","v":0},{"$f":"BACKLOG!B206","v":0},{"$f":"BACKLOG!F206","v":0}]
[{"$nulls":7},{"$f":"BACKLOG!C207","v":0},{"$f":"BACKLOG!A207","v":0},{"$f":"BACKLOG!B207","v":0},{"$f":"BACKLOG!F207","v":0}]
[{"$nulls":7},{"$f":"BACKLOG!C208","v":0},{"$f":"BACKLOG!A208","v":0},{"$f":"BACKLOG!B208","v":0},{"$f":"BACKLOG!F208","v":0}]
[{"$nulls":7},{"$f":"BACKLOG!C209","v":0},{"$f":"BACKLOG!A209","v":0},{"$f":"BACKLOG!B209","v":0},{"$f":"BACKLOG!F209","v":0}]
[{"$nulls":7},{"$f":"BACKLOG!C210","v":0},{"$f":"BACKLOG!A210","v":0},{"$f":"BACKLOG!B210","v":0},{"$f":"BACKLOG!F210","v":0}]
[{"$nulls":7},{"$f":"BACKLOG!C211","v":0},{"$f":"BACKLOG!A211","v":0},{"$f":"BACKLOG!B211","v":0},{"$f":"BACKLOG!F211","v":0}]
[{"$nulls":7},{"$f":"BACKLOG!C212","v":0},{"$f":"BACKLOG!A212","v":0},{"$f":"BACKLOG!B212","v":0},{"$f":"BACKLOG!F212","v":0}]
[{"$nulls":7},{"$f":"BACKLOG!C213","v":0},{"$f":"BACKLOG!A213","v":0},{"$f":"BACKLOG!B213","v":0},{"$f":"BACKLOG!F213","v":0}]
[{"$nulls":7},{"$f":"BACKLOG!C214","v":0},{"$f":"BACKLOG!A214","v":0},{"$f":"BACKLOG!B214","v":0},{"$f":"BACKLOG!F214","v":0}]
[{"$nulls":7},{"$f":"BACKLOG!C215","v":0},{"$f":"BACKLOG!A215","v":0},{"$f":"BACKLOG!B215","v":0},{"$f":"BACKLOG!F215","v":0}]
[{"$nulls":7},{"$f":"BACKLOG!C216","v":0},{"$f":"BACKLOG!A216","v":0},{"$f":"BACKLOG!B216","v":0},{"$f":"BACKLOG!F216","v":0}]
[{"$nulls":7},{"$f":"BACKLOG!C217","v":0},{"$f":"BACKLOG!A217","v":0},{"$f":"BACKLOG!B217","v":0},{"$f":"BACKLOG!F217","v":0}]
[{"$nulls":7},{"$f":"BACKLOG!C218","v":0},{"$f":"BACKLOG!A218","v":0},{"$f":"BACKLOG!B218","v":0},{"$f":"BACKLOG!F218","v":0}]
[{"$nulls":7},{"$f":"BACKLOG!C219","v":0},{"$f":"BACKLOG!A219","v":0},{"$f":"BACKLOG!B219","v":0},{"$f":"BACKLOG!F219","v":0}]
[{"$nulls":7},{"$f":"BACKLOG!C220","v":0},{"$f":"BACKLOG!A220","v":0},{"$f":"BACKLOG!B220","v":0},{"$f":"BACKLOG!F220","v":0}]
[{"$nulls":7},{"$f":"BACKLOG!C221","v":0},{"$f":"BACKLOG!A221","v":0},{"$f":"BACKLOG!B221","v":0},{"$f":"BACKLOG!F221","v":0}]
[{"$nulls":7},{"$f":"BACKLOG!C222","v":0},{"$f":"BACKLOG!A222","v":0},{"$f":"BACKLOG!B222","v":0},{"$f":"BACKLOG!F222","v":0}]
[{"$nulls":7},{"$f":"BACKLOG!C223","v":0},{"$f":"BACKLOG!A223","v":0},{"$f":"BACKLOG!B223","v":0},{"$f":"BACKLOG!F223","v":0}]
[{"$nulls":7},{"$f":"BACKLOG!C224","v":0},{"$f":"BACKLOG!A224","v":0},{"$f":"BACKLOG!B224","v":0},{"$f":"BACKLOG!F224","v":0}]
[{"$nulls":7},{"$f":"BACKLOG!C225","v":0},{"$f":"BACKLOG!A225","v":0},{"$f":"BACKLOG!B225","v":0},{"$f":"BACKLOG!F225","v":0}]
[{"$nulls":7},{"$f":"BACKLOG!C226","v":0},{"$f":"BACKLOG!A226","v":0},{"$f":"BACKLOG!B226","v":0},{"$f":"BACKLOG!F226","v":0}]
[{"$nulls":7},{"$f":"BACKLOG!C227","v":0},{"$f":"BACKLOG!A227","v":0},{"$f":"BACKLOG!B227","v":0},{"$f":"BACKLOG!F227","v":0}]
[{"$nulls":7},{"$f":"BACKLOG!C228","v":0},{"$f":"BACKLOG!A228","v":0},{"$f":"BACKLOG!B228","v":0},{"$f":"BACKLOG!F228","v":0}]
[{"$nulls":7},{"$f":"BACKLOG!C229","v":0},{"$f":"BACKLOG!A229","v":0},{"$f":"BACKLOG!B229","v":0},{"$f":"BACKLOG!F229","v":0}]
[{"$nulls":7},{"$f":"BACKLOG!C230","v":0},{"$f":"BACKLOG!A230","v":0},{"$f":"BACKLOG!B230","v":0},{"$f":"BACKLOG!F230","v":0}]
[{"$nulls":7},{"$f":"BACKLOG!C231","v":0},{"$f":"BACKLOG!A231","v":0},{"$f":"BACKLOG!B231","v":0},{"$f":"BACKLOG!F231","v":0}]
[{"$nulls":7},{"$f":"BACKLOG!C232","v":0},{"$f":"BACKLOG!A232","v":0},{"$f":"BACKLOG!B232","v":0},{"$f":"BACKLOG!F232","v":0}]
[{"$nulls":7},{"$f":"BACKLOG!C233","v":0},{"$f":"BACKLOG!A233","v":0},{"$f":"BACKLOG!B233","v":0},{"$f":"BACKLOG!F233","v":0}]
[{"$nulls":7},{"$f":"BACKLOG!C234","v":0},{"$f":"BACKLOG!A234","v":0},{"$f":"BACKLOG!B234","v":0},{"$f":"BACKLOG!F234","v":0}]
[{"$nulls":7},{"$f":"BACKLOG!C235","v":0},{"$f":"BACKLOG!A235","v":0},{"$f":"BACKLOG!B235","v":0},{"$f":"BACKLOG!F235","v":0}]
[{"$nulls":7},{"$f":"BACKLOG!C236","v":0},{"$f":"BACKLOG!A236","v":0},{"$f":"BACKLOG!B236","v":0},{"$f":"BACKLOG!F236","v":0}]
[{"$nulls":7},{"$f":"BACKLOG!C237","v":0},{"$f":"BACKLOG!A237","v":0},{"$f":"BACKLOG!B237","v":0},{"$f":"BACKLOG!F237","v":0}]
[{"$nulls":7},{"$f":"BACKLOG!C238","v":0},{"$f":"BACKLOG!A238","v":0},{"$f":"BACKLOG!B238","v":0},{"$f":"BACKLOG!F238","v":0}]
[{"$nulls":7},{"$f":"BACKLOG!C239","v":0},{"$f":"BACKLOG!A239","v":0},{"$f":"BACKLOG!B239","v":0},{"$f":"BACKLOG!F239","v":0}]
[{"$nulls":7},{"$f":"BACKLOG!C240","v":0},{"$f":"BACKLOG!A240","v":0},{"$f":"BACKLOG!B240","v":0},{"$f":"BACKLOG!F240","v":0}]
[{"$nulls":7},{"$f":"BACKLOG!C241","v":0},{"$f":"BACKLOG!A241","v":0},{"$f":"BACKLOG!B241","v":0},{"$f":"BACKLOG!F241","v":0}]
[{"$nulls":7},{"$f":"BACKLOG!C242","v":0},{"$f":"BACKLOG!A242","v":0},{"$f":"BACKLOG!B242","v":0},{"$f":"BACKLOG!F242","v":0}]
[{"$nulls":7},{"$f":"BACKLOG!C243","v":0},{"$f":"BACKLOG!A243","v":0},{"$f":"BACKLOG!B243","v":0},{"$f":"BACKLOG!F243","v":0}]
[{"$nulls":7},{"$f":"BACKLOG!C244","v":0},{"$f":"BACKLOG!A244","v":0},{"$f":"BACKLOG!B244","v":0},{"$f":"BACKLOG!F244","v":0}]
[{"$nulls":7},{"$f":"BACKLOG!C245","v":0},{"$f":"BACKLOG!A245","v":0},{"$f":"BACKLOG!B245","v":0},{"$f":"BACKLOG!F245","v":0}]
[{"$nulls":7},{"$f":"BACKLOG!C246","v":0},{"$f":"BACKLOG!A246","v":0},{"$f":"BACKLOG!B246","v":0},{"$f":"BACKLOG!F246","v":0}]
[{"$nulls":7},{"$f":"BACKLOG!C247","v":0},{"$f":"BACKLOG!A247","v":0},{"$f":"BACKLOG!B247","v":0},{"$f":"BACKLOG!F247","v":0}]
[{"$nulls":7},{"$f":"BACKLOG!C248","v":0},{"$f":"BACKLOG!A248","v":0},{"$f":"BACKLOG!B248","v":0},{"$f":"BACKLOG!F248","v":0}]
[{"$nulls":7},{"$f":"BACKLOG!C249","v":0},{"$f":"BACKLOG!A249","v":0},{"$f":"BACKLOG!B249","v":0},{"$f":"BACKLOG!F249","v":0}]
[{"$nulls":7},{"$f":"BACKLOG!C250","v":0},{"$f":"BACKLOG!A250","v":0},{"$f":"BACKLOG!B250","v":0},{"$f":"BACKLOG!F250","v":0}]
[{"$nulls":7},{"$f":"BACKLOG!C251","v":0},{"$f":"BACKLOG!A251","v":0},{"$f":"BACKLOG!B251","v":0},{"$f":"BACKLOG!F251","v":0}]
[{"$nulls":7},{"$f":"BACKLOG!C252","v":0},{"$f":"BACKLOG!A252","v":0},{"$f":"BACKLOG!B252","v":0},{"$f":"BACKLOG!F252","v":0}]
[{"$nulls":7},{"$f":"BACKLOG!C253","v":0},{"$f":"BACKLOG!A253","v":0},{"$f":"BACKLOG!B253","v":0},{"$f":"BACKLOG!F253","v":0}]
[{"$nulls":7},{"$f":"BACKLOG!C254","v":0},{"$f":"BACKLOG!A254","v":0},{"$f":"BACKLOG!B254","v":0},{"$f":"BACKLOG!F254","v":0}]
[{"$nulls":7},{"$f":"BACKLOG!C255","v":0},{"$f":"BACKLOG!A255","v":0},{"$f":"BACKLOG!B255","v":0},{"$f":"BACKLOG!F255","v":0}]
[{"$nulls":7},{"$f":"BACKLOG!C256","v":0},{"$f":"BACKLOG!A256","v":0},{"$f":"BACKLOG!B256","v":0},{"$f":"BACKLOG!F256","v":0}]
[{"$nulls":7},{"$f":"BACKLOG!C257","v":0},{"$f":"BACKLOG!A257","v":0},{"$f":"BACKLOG!B257","v":0},{"$f":"BACKLOG!F257","v":0}]
[{"$nulls":7},{"$f":"BACKLOG!C258","v":0},{"$f":"BACKLOG!A258","v":0},{"$f":"BACKLOG!B258","v":0},{"$f":"BACKLOG!F258","v":0}]
[{"$nulls":7},{"$f":"BACKLOG!C259","v":0},{"$f":"BACKLOG!A259","v":0},{"$f":"BACKLOG!B259","v":0},{"$f":"BACKLOG!F259","v":0}]
[{"$nulls":7},{"$f":"BACKLOG!C260","v":0},{"$f":"BACKLOG!A260","v":0},{"$f":"BACKLOG!B260","v":0},{"$f":"BACKLOG!F260","v":0}]
[{"$nulls":7},{"$f":"BACKLOG!C261","v":0},{"$f":"BACKLOG!A261","v":0},{"$f":"BACKLOG!B261","v":0},{"$f":"BACKLOG!F261","v":0}]
[{"$nulls":7},{"$f":"BACKLOG!C262","v":0},{"$f":"BACKLOG!A262","v":0},{"$f":"BACKLOG!B262","v":0},{"$f":"BACKLOG!F262","v":0}]
[{"$nulls":7},{"$f":"BACKLOG!C263","v":0},{"$f":"BACKLOG!A263","v":0},{"$f":"BACKLOG!B263","v":0},{"$f":"BACKLOG!F263","v":0}]

{"sheet":"Sprint Vierge","index":5,"n_rows":43,"n_cols":28,"rows_kept":43,"merged":[[0,0,0,2],[0,10,0,15],[1,10,1,11],[1,12,1,13],[1,14,1,15],[2,14,2,15],[16,0,18,0],[16,1,18,2],[17,6,17,7],[18,6,18,7],[19,1,19,2],[23,1,23,2],[25,1,25,2],[26,1,26,2],[27,1,27,2],[28,1,28,2],[29,1,29,2]]}
[{"$f":"CONCATENATE('Document de vision'!C14,\" : Sprint 1\")","v":"Nom du produit : Sprint 1"},{"$nulls":9},"Pour le calcul de la prévision"]
[{"$nulls":10},"Known X",null,"Effort",null,"Reste à faire"]
[{"$nulls":10},0,null,{"$f":"C6","v":0},0,0]
[null,"Date de début :","2008-10-21",{"$nulls":7},{"$f":"C8-1","v":9}]
[null,"Date de fin (incluse) :",{"$f":"WORKDAY(C4,C8)","v":"2008-11-04"}]
[null,"Effort initial :",{"$f":"$I18","v":0}]
[null,"Objectifs du Sprint :","Mettre en place une page de connexion"]
[null,"Durée d'un sprint (jours) :",10]
[null,"Météo du sprint :"]
[]
[]
[null,"Elément pour la météo du sprint :"]
[]
[]
[]
[]
["Story ID","Story/Tâche",{"$nulls":3},"Fini","Importance","Estimation","lun",1,"mar",2,"mer",3,"jeu",4,"ven",5,"lun",6,"mar",7,"mer",8,"jeu",9,"ven",10]
[{"$nulls":4},"En cours",null,"Reste à faire (point/jr) :",null,{"$f":"SUM(I20:I33)","v":0},0,0,0,0,0,0,0,0,0,0,0,0,0,0,0,0,0,{"$f":"SUM(AA20:AA33)","v":0},{"$f":"SUM(AB20:AB33)","v":0}]
[{"$nulls":3},"A faire",null,null,"Prévision :",null,{"$f":"FORECAST(J17-1, $M$3:$N$3,$K$3:$K$4)","v":{"v":0,"d":"0.0"}},null,{"$f":"FORECAST(L17-1, $M$3:$N$3,$K$3:$K$4)","v":{"v":0,"d":"0.0"}},null,{"$f":"FORECAST(N17-1, $M$3:$N$3,$K$3:$K$4)","v":{"v":0,"d":"0.0"}},null,{"$f":"FORECAST(P17-1, $M$3:$N$3,$K$3:$K$4)","v":{"v":0,"d":"0.0"}},null,{"$f":"FORECAST(R17-1, $M$3:$N$3,$K$3:$K$4)","v":{"v":0,"d":"0.0"}},null,{"$f":"FORECAST(T17-1, $M$3:$N$3,$K$3:$K$4)","v":{"v":0,"d":"0.0"}},null,{"$f":"FORECAST(V17-1, $M$3:$N$3,$K$3:$K$4)","v":{"v":0,"d":"0.0"}},null,{"$f":"FORECAST(X17-1, $M$3:$N$3,$K$3:$K$4)","v":{"v":0,"d":"0.0"}},null,{"$f":"FORECAST(Z17-1, $M$3:$N$3,$K$3:$K$4)","v":{"v":0,"d":"0.0"}},null,{"$f":"FORECAST(AB17-1, $M$3:$N$3,$K$3:$K$4)","v":{"v":0,"d":"0.0"}}]
[{"$f":"VLOOKUP($B20,TEMPLATE!$H$11:$K$267,2)","v":0},{"$nulls":5},{"$f":"VLOOKUP($B20,TEMPLATE!$H$11:$K$267,3)","v":0},{"$f":"VLOOKUP($B20,TEMPLATE!$H$11:$K$267,4)","v":0},{"$f":"H20","v":0}]
[{"$nulls":5},"x",null,null,{"$f":"H21","v":0}]
[{"$nulls":8},0]
[{"$nulls":8},0]
[{"$f":"VLOOKUP($B24,TEMPLATE!$H$11:$K$267,2)","v":0},{"$nulls":4},"x",{"$f":"VLOOKUP($B24,TEMPLATE!$H$11:$K$267,3)","v":0},{"$f":"VLOOKUP($B24,TEMPLATE!$H$11:$K$267,4)","v":0},0]
[{"$nulls":8},0]
[{"$f":"VLOOKUP($B26,TEMPLATE!$H$11:$K$267,2)","v":0},{"$nulls":4},"x",{"$f":"VLOOKUP($B26,TEMPLATE!$H$11:$K$267,3)","v":0},{"$f":"VLOOKUP($B26,TEMPLATE!$H$11:$K$267,4)","v":0},0]
[{"$f":"VLOOKUP($B27,TEMPLATE!$H$11:$K$267,2)","v":0},{"$nulls":4},"x",{"$f":"VLOOKUP($B27,TEMPLATE!$H$11:$K$267,3)","v":0},{"$f":"VLOOKUP($B27,TEMPLATE!$H$11:$K$267,4)","v":0},0]
[{"$f":"VLOOKUP($B28,TEMPLATE!$H$11:$K$267,2)","v":0},{"$nulls":4},"x",{"$f":"VLOOKUP($B28,TEMPLATE!$H$11:$K$267,3)","v":0},{"$f":"VLOOKUP($B28,TEMPLATE!$H$11:$K$267,4)","v":0},0]
[{"$f":"VLOOKUP($B29,TEMPLATE!$H$11:$K$267,2)","v":0},{"$nulls":5},{"$f":"VLOOKUP($B29,TEMPLATE!$H$11:$K$267,3)","v":0},{"$f":"VLOOKUP($B29,TEMPLATE!$H$11:$K$267,4)","v":0},0]
[{"$f":"VLOOKUP($B30,TEMPLATE!$H$11:$K$267,2)","v":0},{"$nulls":5},{"$f":"VLOOKUP($B30,TEMPLATE!$H$11:$K$267,3)","v":0},{"$f":"VLOOKUP($B30,TEMPLATE!$H$11:$K$267,4)","v":0},0]
[{"$nulls":8},0]
[{"$nulls":8},0]
[{"$nulls":8},0]
[{"$nulls":8},0]
[{"$nulls":8},0]
[{"$nulls":8},0]
[{"$nulls":8},0]
[{"$nulls":8},0]
[{"$nulls":8},0]
[{"$nulls":8},0]
[{"$nulls":8},0]
[{"$nulls":8},0]
[{"$nulls":8},0]

{"sheet":"Sprint 1","index":6,"n_rows":43,"n_cols":28,"rows_kept":43,"merged":[[0,0,0,2],[0,10,0,15],[1,10,1,11],[1,12,1,13],[1,14,1,15],[2,14,2,15],[16,0,18,0],[16,1,18,2],[17,6,17,7],[18,6,18,7],[19,1,19,2],[23,1,23,2],[25,1,25,2],[26,1,26,2],[27,1,27,2],[28,1,28,2],[29,1,29,2]]}
[{"$f":"CONCATENATE('Document de vision'!C14,\" : Sprint 1\")","v":"Nom du produit : Sprint 1"},{"$nulls":9},"Pour le calcul de la prévision"]
[{"$nulls":10},"Known X",null,"Effort",null,"Reste à faire"]
[{"$nulls":10},0,null,{"$f":"C6","v":56},0,0]
[null,"Date de début :","2008-10-21",{"$nulls":7},{"$f":"C8-1","v":9}]
[null,"Date de fin (incluse) :",{"$f":"WORKDAY(C4,C8)","v":"2008-11-04"}]
[null,"Effort initial :",{"$f":"$I18","v":56}]
[null,"Objectifs du Sprint :","Mettre en place une page de connexion"]
[null,"Durée d'un sprint (jours) :",10]
[null,"Météo du sprint :"]
[]
[]
[null,"Elément pour la météo du sprint :"]
[]
[]
[]
[]
["Story ID","Story/Tâche",{"$nulls":3},"Fini","Importance","Estimation","lun",1,"mar",2,"mer",3,"jeu",4,"ven",5,"lun",6,"mar",7,"mer",8,"jeu",9,"ven",10]
[{"$nulls":4},"En cours",null,"Reste à faire (point/jr) :",null,{"$f":"SUM(I20:I33)","v":56},{"v":7.5,"d":"8"},47,0,45,0,47,0,44,0,36,0,28,0,17,0,5,0,{"$f":"SUM(AA20:AA33)","v":0},{"$f":"SUM(AB20:AB33)","v":0}]
[{"$nulls":3},"A faire",null,null,"Prévision :",null,{"$f":"FORECAST(J17-1, $M$3:$N$3,$K$3:$K$4)","v":{"v":56,"d":"56.0"}},null,{"$f":"FORECAST(L17-1, $M$3:$N$3,$K$3:$K$4)","v":{"v":49.77777777777778,"d":"49.8"}},null,{"$f":"FORECAST(N17-1, $M$3:$N$3,$K$3:$K$4)","v":{"v":43.55555555555556,"d":"43.6"}},null,{"$f":"FORECAST(P17-1, $M$3:$N$3,$K$3:$K$4)","v":{"v":37.33333333333333,"d":"37.3"}},null,{"$f":"FORECAST(R17-1, $M$3:$N$3,$K$3:$K$4)","v":{"v":31.11111111111111,"d":"31.1"}},null,{"$f":"FORECAST(T17-1, $M$3:$N$3,$K$3:$K$4)","v":{"v":24.88888888888889,"d":"24.9"}},null,{"$f":"FORECAST(V17-1, $M$3:$N$3,$K$3:$K$4)","v":{"v":18.666666666666664,"d":"18.7"}},null,{"$f":"FORECAST(X17-1, $M$3:$N$3,$K$3:$K$4)","v":{"v":12.444444444444443,"d":"12.4"}},null,{"$f":"FORECAST(Z17-1, $M$3:$N$3,$K$3:$K$4)","v":{"v":6.222222222222221,"d":"6.2"}},null,{"$f":"FORECAST(AB17-1, $M$3:$N$3,$K$3:$K$4)","v":{"v":0,"d":"0.0"}}]
[{"$f":"VLOOKUP($B20,TEMPLATE!$H$11:$K$267,2)","v":1},"Afficher les anomalies",{"$nulls":4},{"$f":"VLOOKUP($B20,TEMPLATE!$H$11:$K$267,3)","v":30},{"$f":"VLOOKUP($B20,TEMPLATE!$H$11:$K$267,4)","v":5},{"$f":"H20","v":5},null,4,null,0,null,0,null,0,null,0,null,0,null,0,null,0,null,0]
[null,null,"Tâche 1",null,null,"x",{"$nulls":3},0.5]
[null,null,"Tâche 2",{"$nulls":6},1]
[null,null,"Tâche 3",{"$nulls":6},2]
[{"$f":"VLOOKUP($B24,TEMPLATE!$H$11:$K$267,2)","v":1},"besoin 1",{"$nulls":3},"x",{"$f":"VLOOKUP($B24,TEMPLATE!$H$11:$K$267,3)","v":30},{"$f":"VLOOKUP($B24,TEMPLATE!$H$11:$K$267,4)","v":5},{"$f":"H24","v":5},null,4,null,0,null,0,null,0,null,0,null,0,null,0,null,0,null,0]
[null,null,"Tâche 1",{"$nulls":6},4]
[{"$f":"VLOOKUP($B26,TEMPLATE!$H$11:$K$267,2)","v":4},"besoin 2",{"$nulls":3},"x",{"$f":"VLOOKUP($B26,TEMPLATE!$H$11:$K$267,3)","v":7},{"$f":"VLOOKUP($B26,TEMPLATE!$H$11:$K$267,4)","v":20},{"$f":"H26","v":20},null,16,null,14,null,13,null,13,null,8,null,4,null,4,null,4,null,0]
[{"$f":"VLOOKUP($B27,TEMPLATE!$H$11:$K$267,2)","v":14},"besoin 8",{"$nulls":3},"x",{"$f":"VLOOKUP($B27,TEMPLATE!$H$11:$K$267,3)","v":27},{"$f":"VLOOKUP($B27,TEMPLATE!$H$11:$K$267,4)","v":5},{"$f":"H27","v":5},null,4,null,3,null,6,null,3,null,0,null,0,null,0,null,0,null,0]
[{"$f":"VLOOKUP($B28,TEMPLATE!$H$11:$K$267,2)","v":7},"besoin 5",{"$nulls":3},"x",{"$f":"VLOOKUP($B28,TEMPLATE!$H$11:$K$267,3)","v":10},{"$f":"VLOOKUP($B28,TEMPLATE!$H$11:$K$267,4)","v":20},{"$f":"H28","v":20},null,18,null,16,null,16,null,16,null,16,null,12,null,5,null,0,null,0]
[{"$f":"VLOOKUP($B29,TEMPLATE!$H$11:$K$267,2)","v":6},"besoin 4",{"$nulls":4},{"$f":"VLOOKUP($B29,TEMPLATE!$H$11:$K$267,3)","v":11},{"$f":"VLOOKUP($B29,TEMPLATE!$H$11:$K$267,4)","v":1},{"$f":"H29","v":1},null,1,null,12,null,12,null,12,null,12,null,12,null,8,null,1,null,0]
[{"$f":"VLOOKUP($B30,TEMPLATE!$H$11:$K$267,2)","v":0},{"$nulls":5},{"$f":"VLOOKUP($B30,TEMPLATE!$H$11:$K$267,3)","v":0},{"$f":"VLOOKUP($B30,TEMPLATE!$H$11:$K$267,4)","v":0},{"$f":"H30","v":0}]
[{"$nulls":8},0]
[{"$nulls":8},0]
[{"$nulls":8},0]
[{"$nulls":8},0]
[{"$nulls":8},0]
[{"$nulls":8},0]
[{"$nulls":8},0]
[{"$nulls":8},0]
[{"$nulls":8},0]
[{"$nulls":8},0]
[{"$nulls":8},0]
[{"$nulls":8},0]
[{"$nulls":8},0]